BEGIN:VCALENDAR
VERSION:2.0
PRODID:-//PodCavern - ECPv5.16.4//NONSGML v1.0//EN
CALSCALE:GREGORIAN
METHOD:PUBLISH
X-WR-CALNAME:PodCavern
X-ORIGINAL-URL:https://podcavern.com
X-WR-CALDESC:Events for PodCavern
REFRESH-INTERVAL;VALUE=DURATION:PT1H
X-Robots-Tag:noindex
X-PUBLISHED-TTL:PT1H
BEGIN:VTIMEZONE
TZID:UTC
BEGIN:STANDARD
TZOFFSETFROM:+0000
TZOFFSETTO:+0000
TZNAME:UTC
DTSTART:20220101T000000
END:STANDARD
END:VTIMEZONE
BEGIN:VEVENT
DTSTART;VALUE=DATE:20221107
DTEND;VALUE=DATE:20221108
DTSTAMP:20260426T031414
CREATED:20220904T183713Z
LAST-MODIFIED:20220904T183713Z
UID:3594-1667779200-1667865599@podcavern.com
SUMMARY:No Bad Food
DESCRIPTION:A show about great food and the people who love to make & eat it. Every week\, we dig into a different dish\, meal\, ingredient\, cuisine\, or piece of food media\, exploring the history & culture around it\, sharing favorite recipes\, and learning from our wonderful guests. The only rule? You’ve gotta love it. After all\, there’s no such thing as bad food.
URL:https://podcavern.com/event/no-bad-food-10/
CATEGORIES:No Bad Food
ATTACH;FMTTYPE=image/jpeg:https://podcavern.com/wp-content/uploads/2022/09/NBD-PodCavern-800x800-1.jpg
END:VEVENT
BEGIN:VEVENT
DTSTART;VALUE=DATE:20221107
DTEND;VALUE=DATE:20221108
DTSTAMP:20260426T031414
CREATED:20220904T191128Z
LAST-MODIFIED:20220904T191128Z
UID:3644-1667779200-1667865599@podcavern.com
SUMMARY:The Moth Collection
DESCRIPTION:The Moth Collection is 14-episode series of science-fiction short stories\, tinged with horror and\, I’m not going to lie\, sentimentality. Moth travels everywhere and everywhen in search of (often deadly) Discrepancies\, and tries to make sense of the Briefs she gets from Collection.\nShe also pines a bit for her colleague Cicada.\nEpisodes are standalone but linked\, and details add up.
URL:https://podcavern.com/event/the-moth-collection-5/
CATEGORIES:The Moth Collection
ATTACH;FMTTYPE=image/jpeg:https://podcavern.com/wp-content/uploads/2022/09/The-Moth-Collection-800x800-1.jpg
END:VEVENT
END:VCALENDAR