BEGIN:VCALENDAR
VERSION:2.0
PRODID:-//PodCavern - ECPv5.16.4//NONSGML v1.0//EN
CALSCALE:GREGORIAN
METHOD:PUBLISH
X-WR-CALNAME:PodCavern
X-ORIGINAL-URL:https://podcavern.com
X-WR-CALDESC:Events for PodCavern
REFRESH-INTERVAL;VALUE=DURATION:PT1H
X-Robots-Tag:noindex
X-PUBLISHED-TTL:PT1H
BEGIN:VTIMEZONE
TZID:UTC
BEGIN:STANDARD
TZOFFSETFROM:+0000
TZOFFSETTO:+0000
TZNAME:UTC
DTSTART:20220101T000000
END:STANDARD
END:VTIMEZONE
BEGIN:VEVENT
DTSTART;VALUE=DATE:20221117
DTEND;VALUE=DATE:20221118
DTSTAMP:20260426T031343
CREATED:20220904T185805Z
LAST-MODIFIED:20220904T185805Z
UID:3630-1668643200-1668729599@podcavern.com
SUMMARY:Ranked: Top 5 Lists of Stuff That Don't Matter
DESCRIPTION:The fine folks at PodCavern gather a motley crew of self-proclaimed experts (Tuong La and special guests) to weigh in\, rank\, and order top 5 lists of anything and everything.
URL:https://podcavern.com/event/ranked-top-5-lists-of-stuff-that-dont-matter-6/
CATEGORIES:Ranked: Top 5 Lists of Stuff That Don't Matter
ATTACH;FMTTYPE=image/jpeg:https://podcavern.com/wp-content/uploads/2017/02/Ranked-800x800.jpg
END:VEVENT
END:VCALENDAR