BEGIN:VCALENDAR
VERSION:2.0
PRODID:-//PodCavern - ECPv5.16.4//NONSGML v1.0//EN
CALSCALE:GREGORIAN
METHOD:PUBLISH
X-WR-CALNAME:PodCavern
X-ORIGINAL-URL:https://podcavern.com
X-WR-CALDESC:Events for PodCavern
REFRESH-INTERVAL;VALUE=DURATION:PT1H
X-Robots-Tag:noindex
X-PUBLISHED-TTL:PT1H
BEGIN:VTIMEZONE
TZID:UTC
BEGIN:STANDARD
TZOFFSETFROM:+0000
TZOFFSETTO:+0000
TZNAME:UTC
DTSTART:20220101T000000
END:STANDARD
END:VTIMEZONE
BEGIN:VEVENT
DTSTART;VALUE=DATE:20221123
DTEND;VALUE=DATE:20221124
DTSTAMP:20260426T031516
CREATED:20220904T195256Z
LAST-MODIFIED:20220904T195318Z
UID:3669-1669161600-1669247999@podcavern.com
SUMMARY:Disney Dummies
DESCRIPTION:The world is full of Disney superfans\, but this trio is wise enough to know that even the super-est fans can still be Disney Dummies. Join Sam\, Laura\, and Tuong as they explore each of Disney’s animated films in chronological order\, bringing you blasts from the past\, fun facts you never knew\, and hot takes on everything from the seven dwarf’s political affiliations to what Tinkerbell’s pixie dust is really made of.
URL:https://podcavern.com/event/disney-dummies-6/
CATEGORIES:Disney Dummies
ATTACH;FMTTYPE=image/jpeg:https://podcavern.com/wp-content/uploads/2020/05/DD800x800.jpeg
END:VEVENT
END:VCALENDAR