BEGIN:VCALENDAR
VERSION:2.0
PRODID:-//PodCavern - ECPv5.16.4//NONSGML v1.0//EN
CALSCALE:GREGORIAN
METHOD:PUBLISH
X-ORIGINAL-URL:https://podcavern.com
X-WR-CALDESC:Events for PodCavern
REFRESH-INTERVAL;VALUE=DURATION:PT1H
X-Robots-Tag:noindex
X-PUBLISHED-TTL:PT1H
BEGIN:VTIMEZONE
TZID:UTC
BEGIN:STANDARD
TZOFFSETFROM:+0000
TZOFFSETTO:+0000
TZNAME:UTC
DTSTART:20220101T000000
END:STANDARD
END:VTIMEZONE
BEGIN:VEVENT
DTSTART;VALUE=DATE:20221201
DTEND;VALUE=DATE:20221202
DTSTAMP:20260425T235802
CREATED:20221115T002656Z
LAST-MODIFIED:20221115T002656Z
UID:3842-1669852800-1669939199@podcavern.com
SUMMARY:Ranked: Top 5 Lists of Stuff That Don't Matter
DESCRIPTION:The fine folks at PodCavern gather a motley crew of self-proclaimed experts (Tuong La and special guests) to weigh in\, rank\, and order top 5 lists of anything and everything.
URL:https://podcavern.com/event/ranked-top-5-lists-of-stuff-that-dont-matter-7/
CATEGORIES:Ranked: Top 5 Lists of Stuff That Don't Matter
ATTACH;FMTTYPE=image/jpeg:https://podcavern.com/wp-content/uploads/2017/02/Ranked-800x800.jpg
END:VEVENT
BEGIN:VEVENT
DTSTART;VALUE=DATE:20221205
DTEND;VALUE=DATE:20221206
DTSTAMP:20260425T235802
CREATED:20221124T192855Z
LAST-MODIFIED:20221124T192855Z
UID:3859-1670198400-1670284799@podcavern.com
SUMMARY:No Bad Food
DESCRIPTION:A show about great food and the people who love to make & eat it. Every week\, we dig into a different dish\, meal\, ingredient\, cuisine\, or piece of food media\, exploring the history & culture around it\, sharing favorite recipes\, and learning from our wonderful guests. The only rule? You’ve gotta love it. After all\, there’s no such thing as bad food.
URL:https://podcavern.com/event/no-bad-food-14/
CATEGORIES:No Bad Food
ATTACH;FMTTYPE=image/jpeg:https://podcavern.com/wp-content/uploads/2022/09/NBD-PodCavern-800x800-1.jpg
END:VEVENT
BEGIN:VEVENT
DTSTART;VALUE=DATE:20221206
DTEND;VALUE=DATE:20221207
DTSTAMP:20260425T235802
CREATED:20221010T172720Z
LAST-MODIFIED:20221010T172720Z
UID:3777-1670284800-1670371199@podcavern.com
SUMMARY:Learn Real Good
DESCRIPTION:Learn Real Good is a podcast that brings science to the masses by combining comedy and cutting-edge science. We create a friendly and casual atmosphere to discuss STEM research with grad students. We want to peel back the curtain on how science is done and what it means to be a scientist while improving scientific literacy in the general public. We also want our audience to laugh their butts off.
URL:https://podcavern.com/event/learn-real-good-8/
CATEGORIES:Learn Real Good
ATTACH;FMTTYPE=image/jpeg:https://podcavern.com/wp-content/uploads/2021/09/LRGpod-800.jpg
END:VEVENT
BEGIN:VEVENT
DTSTART;VALUE=DATE:20221212
DTEND;VALUE=DATE:20221213
DTSTAMP:20260425T235802
CREATED:20221124T193012Z
LAST-MODIFIED:20221124T193012Z
UID:3861-1670803200-1670889599@podcavern.com
SUMMARY:No Bad Food
DESCRIPTION:A show about great food and the people who love to make & eat it. Every week\, we dig into a different dish\, meal\, ingredient\, cuisine\, or piece of food media\, exploring the history & culture around it\, sharing favorite recipes\, and learning from our wonderful guests. The only rule? You’ve gotta love it. After all\, there’s no such thing as bad food.
URL:https://podcavern.com/event/no-bad-food-15/
CATEGORIES:No Bad Food
ATTACH;FMTTYPE=image/jpeg:https://podcavern.com/wp-content/uploads/2022/09/NBD-PodCavern-800x800-1.jpg
END:VEVENT
BEGIN:VEVENT
DTSTART;VALUE=DATE:20221213
DTEND;VALUE=DATE:20221214
DTSTAMP:20260425T235802
CREATED:20221010T172805Z
LAST-MODIFIED:20221010T172805Z
UID:3779-1670889600-1670975999@podcavern.com
SUMMARY:Learn Real Good
DESCRIPTION:Learn Real Good is a podcast that brings science to the masses by combining comedy and cutting-edge science. We create a friendly and casual atmosphere to discuss STEM research with grad students. We want to peel back the curtain on how science is done and what it means to be a scientist while improving scientific literacy in the general public. We also want our audience to laugh their butts off.
URL:https://podcavern.com/event/learn-real-good-9/
CATEGORIES:Learn Real Good
ATTACH;FMTTYPE=image/jpeg:https://podcavern.com/wp-content/uploads/2021/09/LRGpod-800.jpg
END:VEVENT
BEGIN:VEVENT
DTSTART;VALUE=DATE:20221215
DTEND;VALUE=DATE:20221216
DTSTAMP:20260425T235802
CREATED:20221115T002817Z
LAST-MODIFIED:20221115T002817Z
UID:3845-1671062400-1671148799@podcavern.com
SUMMARY:Ranked: Top 5 Lists of Stuff That Don't Matter
DESCRIPTION:The fine folks at PodCavern gather a motley crew of self-proclaimed experts (Tuong La and special guests) to weigh in\, rank\, and order top 5 lists of anything and everything.
URL:https://podcavern.com/event/ranked-top-5-lists-of-stuff-that-dont-matter-8/
CATEGORIES:Ranked: Top 5 Lists of Stuff That Don't Matter
ATTACH;FMTTYPE=image/jpeg:https://podcavern.com/wp-content/uploads/2017/02/Ranked-800x800.jpg
END:VEVENT
BEGIN:VEVENT
DTSTART;VALUE=DATE:20221219
DTEND;VALUE=DATE:20221220
DTSTAMP:20260425T235802
CREATED:20221124T193133Z
LAST-MODIFIED:20221124T193133Z
UID:3863-1671408000-1671494399@podcavern.com
SUMMARY:No Bad Food
DESCRIPTION:A show about great food and the people who love to make & eat it. Every week\, we dig into a different dish\, meal\, ingredient\, cuisine\, or piece of food media\, exploring the history & culture around it\, sharing favorite recipes\, and learning from our wonderful guests. The only rule? You’ve gotta love it. After all\, there’s no such thing as bad food.
URL:https://podcavern.com/event/no-bad-food-16/
CATEGORIES:No Bad Food
ATTACH;FMTTYPE=image/jpeg:https://podcavern.com/wp-content/uploads/2022/09/NBD-PodCavern-800x800-1.jpg
END:VEVENT
BEGIN:VEVENT
DTSTART;VALUE=DATE:20221220
DTEND;VALUE=DATE:20221221
DTSTAMP:20260425T235802
CREATED:20221010T172904Z
LAST-MODIFIED:20221010T172904Z
UID:3781-1671494400-1671580799@podcavern.com
SUMMARY:Learn Real Good
DESCRIPTION:Learn Real Good is a podcast that brings science to the masses by combining comedy and cutting-edge science. We create a friendly and casual atmosphere to discuss STEM research with grad students. We want to peel back the curtain on how science is done and what it means to be a scientist while improving scientific literacy in the general public. We also want our audience to laugh their butts off.
URL:https://podcavern.com/event/learn-real-good-10/
CATEGORIES:Learn Real Good
ATTACH;FMTTYPE=image/jpeg:https://podcavern.com/wp-content/uploads/2021/09/LRGpod-800.jpg
END:VEVENT
BEGIN:VEVENT
DTSTART;VALUE=DATE:20221226
DTEND;VALUE=DATE:20221227
DTSTAMP:20260425T235802
CREATED:20221124T193247Z
LAST-MODIFIED:20221124T193247Z
UID:3865-1672012800-1672099199@podcavern.com
SUMMARY:No Bad Food
DESCRIPTION:A show about great food and the people who love to make & eat it. Every week\, we dig into a different dish\, meal\, ingredient\, cuisine\, or piece of food media\, exploring the history & culture around it\, sharing favorite recipes\, and learning from our wonderful guests. The only rule? You’ve gotta love it. After all\, there’s no such thing as bad food.
URL:https://podcavern.com/event/no-bad-food-17/
CATEGORIES:No Bad Food
ATTACH;FMTTYPE=image/jpeg:https://podcavern.com/wp-content/uploads/2022/09/NBD-PodCavern-800x800-1.jpg
END:VEVENT
END:VCALENDAR